BEGIN:VCALENDAR
VERSION:2.0
PRODID:-//pretix//pretix.eu//
BEGIN:VTIMEZONE
TZID:Europe/Berlin
BEGIN:STANDARD
DTSTART:20001029T040000
RRULE:FREQ=YEARLY;BYDAY=-1SU;BYMONTH=10
TZNAME:CET
TZOFFSETFROM:+0200
TZOFFSETTO:+0100
END:STANDARD
BEGIN:DAYLIGHT
DTSTART:20000326T030000
RRULE:FREQ=YEARLY;BYDAY=-1SU;BYMONTH=3
TZNAME:CEST
TZOFFSETFROM:+0100
TZOFFSETTO:+0200
END:DAYLIGHT
END:VTIMEZONE
BEGIN:VEVENT
UID:pretix-renergie-allgaeu.de-bmt-I-26-0@tickets.renergie-allgaeu.de
DTSTART;TZID=Europe/Berlin:20260423T090000
DTEND;TZID=Europe/Berlin:20260423T163000
DESCRIPTION:Tickets: https://tickets.renergie-allgaeu.de/bmt-I-26/\nVeranst
 alter: renergie Allgäu e.V.
DTSTAMP:20260421T134522Z
LOCATION:Areal Digital\, Geschwister-Scholl-Straße 6\, 89340 Leipheim
SUMMARY:Biomethan für Einsteiger
END:VEVENT
END:VCALENDAR
